{"text_format":"3","workbook":"xlsx","n_sheets":1,"sheets":["SM-sarja"],"read":"whole","date_system":"1900"}

{"sheet":"SM-sarja","index":0,"n_rows":25,"n_cols":29,"rows_kept":25}
[null,"Ritva-Liisa Viljanen os. Vainio",{"$nulls":4},"23.2.1943   Helsinki"]
[null,"MESTARUUSSARJA",null,null,"Runkosarja",{"$nulls":7},"Runkosarja",null,null,"Ylempi loppusarja",{"$nulls":3},"Alempi loppusarja",{"$nulls":3},"            Arvo-ottelut ja mitalit"]
[null,"Vuosi","Sija","Seura","OTT","KUN","LÖI","TOI",{"$nulls":3},"LÖI","TOI","L+T",null,"OTT","KUN","LÖI","TOI","OTT","KUN","LÖI","TOI","IL","LL","Cup","K","H","P"]
[null,1960,"2.","PT",3,0,2,1,{"$nulls":19},1]
[null,1961,"2.","PT",4,0,2,2,{"$nulls":19},1]
[null,1962,"2.","PT",5,0,0,3,null,null,{"$f":"PRODUCT(#REF!/#REF!)","v":{"$error":"#REF!"}},{"$nulls":16},1]
[null,1963,"1.","PT",10,2,6,7,null,null,{"$f":"PRODUCT(#REF!/#REF!)","v":{"$error":"#REF!"}},{"$nulls":15},1]
[null,1964,"1.","PT",10,1,7,17,null,null,{"$f":"PRODUCT(#REF!/#REF!)","v":{"$error":"#REF!"}},{"$nulls":15},1]
[null,1965,"1.","PT",10,1,25,32,null,null,{"$f":"PRODUCT(#REF!/#REF!)","v":{"$error":"#REF!"}},"5.","4.","4.",{"$nulls":12},1]
[null,1966,"1.","PT",10,2,18,18,{"$nulls":18},1]
[null,1967,"3.","PT",10,0,17,27,null,null,{"$f":"PRODUCT(#REF!/#REF!)","v":{"$error":"#REF!"}},null,"4.","6.",{"$nulls":14},1]
[null,1968,{"$nulls":12},{"$f":"PRODUCT(J12/#REF!)","v":{"$error":"#REF!"}}]
[null,1969,{"$nulls":12},{"$f":"PRODUCT(J13/#REF!)","v":{"$error":"#REF!"}}]
[null,1970,{"$nulls":12},{"$f":"PRODUCT(J14/#REF!)","v":{"$error":"#REF!"}}]
[null,1971,"9.","PT",1,0,0,2,null,null,{"$f":"PRODUCT(#REF!/#REF!)","v":{"$error":"#REF!"}},{"$nulls":3},{"$f":"PRODUCT(J15/#REF!)","v":{"$error":"#REF!"}}]
[null,"Yhteensä",null,null,{"$f":"SUM(E4:E15)","v":63},{"$f":"SUM(F4:F15)","v":6},{"$f":"SUM(G4:G15)","v":77},{"$f":"SUM(H4:H15)","v":109},{"$nulls":6},{"$f":"PRODUCT(J16/#REF!)","v":{"$error":"#REF!"}},{"$f":"SUM(P4:P15)","v":0},{"$f":"SUM(Q4:Q15)","v":0},{"$f":"SUM(R4:R15)","v":0},{"$f":"SUM(S4:S15)","v":0},{"$f":"SUM(T4:T15)","v":0},{"$f":"SUM(U4:U15)","v":0},{"$f":"SUM(V4:V15)","v":0},{"$f":"SUM(W4:W15)","v":0},{"$f":"SUM(X4:X15)","v":0},0,0,4,3,1]
[null,"Pesispörssi",null,{"$f":"SUM(F16:H16)*5/3+(E16/3)+(X16*25)+(Y16*25)+(Z16*15)+(AA16*25)+(AB16*20)+(AC16*15)-20","v":{"v":496,"d":"496.0"}}]
[]
[null,"URA SM-SARJASSA",null,null,"OTT","KUN","LÖI","TOI","ka/L","ka/T",null,"ENSIMMÄISET RUNKOSARJASSA"]
[null,"Runkosarja",null,null,{"$f":"PRODUCT(E16)","v":63},{"$f":"PRODUCT(F16)","v":6},{"$f":"PRODUCT(G16)","v":77},{"$f":"PRODUCT(H16)","v":109},{"$f":"PRODUCT((F20+G20)/E20)","v":{"v":1.3174603174603174,"d":"1.32"}},{"$f":"PRODUCT(H20/E20)","v":{"v":1.7301587301587302,"d":"1.73"}},null,"Ottelu"]
[null,"Ylempi loppusarja",{"$nulls":9},"Lyöty "]
[null,"Alempi loppusarja",{"$nulls":9},"Tuotu "]
[null,"KAIKKI",null,null,{"$f":"SUM(E20:E22)","v":63},{"$f":"SUM(F20:F22)","v":6},{"$f":"SUM(G20:G22)","v":77},{"$f":"SUM(H20:H22)","v":109},{"$f":"PRODUCT((F23+G23)/E23)","v":{"v":1.3174603174603174,"d":"1.32"}},{"$f":"PRODUCT(H23/E23)","v":{"v":1.7301587301587302,"d":"1.73"}},null,"Kunnari"]
[]
[null,"Seurat",null,"PT = Helsingin Pallo-Toverit  (1922)",{"$nulls":7},"Arvio; 1960 tuodut, 1961 lyödyt ja tuodut"]